BEGIN:VCALENDAR
PRODID:-//Google Inc//Google Calendar 70.9054//EN
VERSION:2.0
CALSCALE:GREGORIAN
METHOD:PUBLISH
X-WR-CALNAME:Ski & Wandern
X-WR-TIMEZONE:Europe/Berlin
BEGIN:VTIMEZONE
TZID:Europe/Berlin
X-LIC-LOCATION:Europe/Berlin
BEGIN:DAYLIGHT
TZOFFSETFROM:+0100
TZOFFSETTO:+0200
TZNAME:GMT+2
DTSTART:19700329T020000
RRULE:FREQ=YEARLY;BYMONTH=3;BYDAY=-1SU
END:DAYLIGHT
BEGIN:STANDARD
TZOFFSETFROM:+0200
TZOFFSETTO:+0100
TZNAME:GMT+1
DTSTART:19701025T030000
RRULE:FREQ=YEARLY;BYMONTH=10;BYDAY=-1SU
END:STANDARD
END:VTIMEZONE
BEGIN:VEVENT
DTSTART;VALUE=DATE:20160612
DTEND;VALUE=DATE:20160613
DTSTAMP:20260419T174706Z
UID:46edj54ue1sflvbvpdvs27237g@google.com
CREATED:20151104T194652Z
LAST-MODIFIED:20151104T194652Z
SEQUENCE:0
STATUS:CONFIRMED
SUMMARY:Wanderung auf das Ebner Joch
TRANSP:TRANSPARENT
END:VEVENT
BEGIN:VEVENT
DTSTART:20230308T180000Z
DTEND:20230308T200000Z
DTSTAMP:20260419T174706Z
UID:6luqheljtdij0b74thqjbo1sik@google.com
CREATED:20230130T111425Z
LAST-MODIFIED:20230130T111425Z
LOCATION:Parkwirtschaft im Sportforum
SEQUENCE:0
STATUS:CONFIRMED
SUMMARY:Abteilungsversammlung Ski & Wandern
TRANSP:OPAQUE
END:VEVENT
BEGIN:VEVENT
DTSTART;VALUE=DATE:20160625
DTEND;VALUE=DATE:20160627
DTSTAMP:20260419T174706Z
UID:tru3isia846c4p0svlfueu1e4k@google.com
CREATED:20151104T194724Z
LAST-MODIFIED:20151104T194724Z
SEQUENCE:0
STATUS:CONFIRMED
SUMMARY:Sonnwendfeuer auf der „Gotzenalm“
TRANSP:TRANSPARENT
END:VEVENT
BEGIN:VEVENT
DTSTART:20141111T191500Z
DTEND:20141111T211500Z
DTSTAMP:20260419T174706Z
UID:qvlrp5qpp2k4eab0ee0mtqamoc@google.com
CREATED:20141104T163651Z
DESCRIPTION:vorrangig
LAST-MODIFIED:20141104T164236Z
LOCATION:Parkwirtschaft\, Söldernmoos 61\, Hallbergmoos
SEQUENCE:1
STATUS:CONFIRMED
SUMMARY:Abteilungsversammlung Ski & Wandern
TRANSP:TRANSPARENT
END:VEVENT
BEGIN:VEVENT
DTSTART;VALUE=DATE:20160220
DTEND;VALUE=DATE:20160221
DTSTAMP:20260419T174706Z
UID:6uvq1lmf7lng1iki4t2h0gd35c@google.com
CREATED:20151104T194454Z
LAST-MODIFIED:20151104T194454Z
SEQUENCE:0
STATUS:CONFIRMED
SUMMARY:Winterfahrt nach  Achenkirch/Christlum
TRANSP:TRANSPARENT
END:VEVENT
BEGIN:VEVENT
DTSTART;VALUE=DATE:20160723
DTEND;VALUE=DATE:20160724
DTSTAMP:20260419T174706Z
UID:inf92nvdkhv1p10gd9mill2crc@google.com
CREATED:20151104T194739Z
LAST-MODIFIED:20151104T194739Z
SEQUENCE:0
STATUS:CONFIRMED
SUMMARY:Wanderung zum Leonhardsstein 
TRANSP:TRANSPARENT
END:VEVENT
BEGIN:VEVENT
DTSTART:20181205T180000Z
DTEND:20181205T200000Z
DTSTAMP:20260419T174706Z
UID:29hgs3l750m7hlgul7ivvnlpf6@google.com
CREATED:20181126T083728Z
DESCRIPTION:vorrangig
LAST-MODIFIED:20181126T083729Z
LOCATION:Parkwirtschaft\, Am Söldnermoos 61\, 85399 Hallbergmoos\, Deutschl
 and
SEQUENCE:0
STATUS:CONFIRMED
SUMMARY:Abteilungsversammlung Ski & Wandern
TRANSP:OPAQUE
END:VEVENT
BEGIN:VEVENT
DTSTART;TZID=Europe/Berlin:20150127T190000
DTEND;TZID=Europe/Berlin:20150127T201500
RRULE:FREQ=WEEKLY;UNTIL=20150331T170000Z;BYDAY=TU
DTSTAMP:20260419T174706Z
UID:tojeu6sitcvqmlatesl90vt8nc@google.com
CREATED:20150124T215429Z
LAST-MODIFIED:20150202T143339Z
SEQUENCE:0
STATUS:CONFIRMED
SUMMARY:Ski & Wandern: Ski-Power
TRANSP:OPAQUE
END:VEVENT
BEGIN:VEVENT
DTSTART;VALUE=DATE:20150718
DTEND;VALUE=DATE:20150719
DTSTAMP:20260419T174706Z
UID:bt65md5nkqamdt8hnul8ufqvoc@google.com
CREATED:20150105T102000Z
LAST-MODIFIED:20150202T143430Z
SEQUENCE:0
STATUS:CONFIRMED
SUMMARY:Ski & Wandern: Wanderung zum Brünnstein
TRANSP:TRANSPARENT
END:VEVENT
BEGIN:VEVENT
DTSTART;VALUE=DATE:20150620
DTEND;VALUE=DATE:20150622
DTSTAMP:20260419T174706Z
UID:ma6kgu91ocbvid75hbdek71hv8@google.com
CREATED:20150105T101922Z
LAST-MODIFIED:20150202T143414Z
SEQUENCE:0
STATUS:CONFIRMED
SUMMARY:Ski & Wandern: Sonnwendfeuer auf der „Gotzenalm“ (Start 7:30)
TRANSP:TRANSPARENT
END:VEVENT
BEGIN:VEVENT
DTSTART;TZID=Europe/Berlin:20150126T200000
DTEND;TZID=Europe/Berlin:20150126T211500
RRULE:FREQ=WEEKLY;UNTIL=20150330T180000Z;BYDAY=MO
DTSTAMP:20260419T174706Z
UID:i3l19vilc5urfhciamrfcdrrhs@google.com
CREATED:20150124T215103Z
LAST-MODIFIED:20150202T143326Z
SEQUENCE:0
STATUS:CONFIRMED
SUMMARY:Ski & Wandern: Kondi-Plus
TRANSP:OPAQUE
END:VEVENT
BEGIN:VEVENT
DTSTART;VALUE=DATE:20150205
DTEND;VALUE=DATE:20150209
DTSTAMP:20260419T174706Z
UID:qs43ki348hfut6o9mok3vhfd5c@google.com
CREATED:20150105T101726Z
LAST-MODIFIED:20150202T143301Z
SEQUENCE:0
STATUS:CONFIRMED
SUMMARY:Ski & Wandern: Skifahren  im Skigebiet Ladis/Fiss/Serfaus
TRANSP:TRANSPARENT
END:VEVENT
BEGIN:VEVENT
DTSTART:20150120T191500Z
DTEND:20150120T225900Z
DTSTAMP:20260419T174706Z
UID:m245irmggc27aub49n4b33m7is@google.com
CREATED:20150105T101350Z
LAST-MODIFIED:20150106T192500Z
SEQUENCE:1
STATUS:CONFIRMED
SUMMARY:Ski-Wandern: Neujahrsbegrüßungsfeier
TRANSP:TRANSPARENT
END:VEVENT
BEGIN:VEVENT
DTSTART;VALUE=DATE:20160119
DTEND;VALUE=DATE:20160120
DTSTAMP:20260419T174706Z
UID:3ovvrdfollc99sl1o64mcug2oc@google.com
CREATED:20151104T194414Z
LAST-MODIFIED:20151104T194520Z
SEQUENCE:1
STATUS:CONFIRMED
SUMMARY:Neujahrsbegrüßungsfeier
TRANSP:TRANSPARENT
END:VEVENT
BEGIN:VEVENT
DTSTART;VALUE=DATE:20150808
DTEND;VALUE=DATE:20150815
DTSTAMP:20260419T174706Z
UID:3g0ch3oa40bp2h4sn1kd9b0blg@google.com
CREATED:20150105T102020Z
LAST-MODIFIED:20150202T143439Z
SEQUENCE:0
STATUS:CONFIRMED
SUMMARY:Ski & Wandern: Große Radl‐Tour
TRANSP:TRANSPARENT
END:VEVENT
BEGIN:VEVENT
DTSTART;VALUE=DATE:20150124
DTEND;VALUE=DATE:20150125
DTSTAMP:20260419T174706Z
UID:r0894h98vpu835roia2dujggfk@google.com
CREATED:20150105T101626Z
LAST-MODIFIED:20150105T101626Z
SEQUENCE:0
STATUS:CONFIRMED
SUMMARY:Ski-Wandern: Winterfahrt (Start 7:30)
TRANSP:TRANSPARENT
END:VEVENT
BEGIN:VEVENT
DTSTART;VALUE=DATE:20160812
DTEND;VALUE=DATE:20160817
DTSTAMP:20260419T174706Z
UID:7gsd66apnbpfkdpidfk27a3nfk@google.com
CREATED:20151104T194812Z
LAST-MODIFIED:20151104T194812Z
SEQUENCE:0
STATUS:CONFIRMED
SUMMARY:         Große Radl-Tour  mit Weinfest und Kultur
TRANSP:TRANSPARENT
END:VEVENT
BEGIN:VEVENT
DTSTART;VALUE=DATE:20161002
DTEND;VALUE=DATE:20161004
DTSTAMP:20260419T174706Z
UID:rvv4evmag7425hmkta4lq8btt0@google.com
CREATED:20151104T194838Z
LAST-MODIFIED:20151104T194838Z
SEQUENCE:0
STATUS:CONFIRMED
SUMMARY:Zweitageswandertour zum Hochries
TRANSP:TRANSPARENT
END:VEVENT
BEGIN:VEVENT
DTSTART:20161109T180000Z
DTEND:20161109T193000Z
DTSTAMP:20260419T174706Z
UID:bfe6p6585et5uav29s8964lc4s@google.com
CREATED:20151104T194912Z
LAST-MODIFIED:20151104T194912Z
SEQUENCE:0
STATUS:CONFIRMED
SUMMARY:Abteilungsversammlung
TRANSP:OPAQUE
END:VEVENT
BEGIN:VEVENT
DTSTART:20150501T170000Z
DTEND:20150501T180000Z
DTSTAMP:20260419T174706Z
UID:v3ptkl28jv852tg9a4b438u90c@google.com
CREATED:20150105T101807Z
LAST-MODIFIED:20150202T143403Z
SEQUENCE:0
STATUS:CONFIRMED
SUMMARY:Ski & Wandern: Start in die Radl‐Saison
TRANSP:OPAQUE
END:VEVENT
BEGIN:VEVENT
DTSTART:20151104T180000Z
DTEND:20151104T190000Z
DTSTAMP:20260419T174706Z
UID:070bnt5bldo7oj4k17mek25eac@google.com
CREATED:20150105T102059Z
DESCRIPTION:(vorrangig)
LAST-MODIFIED:20151022T191608Z
LOCATION:Parkwirtschaft im Sportforum 
SEQUENCE:0
STATUS:CONFIRMED
SUMMARY:Ski & Wandern: Abteilungsversammlung
TRANSP:OPAQUE
END:VEVENT
BEGIN:VEVENT
DTSTART;VALUE=DATE:20151011
DTEND;VALUE=DATE:20151012
DTSTAMP:20260419T174706Z
UID:9k6g62tqjb4c5uqkc82rrln60k@google.com
CREATED:20150105T102037Z
LAST-MODIFIED:20150202T143455Z
SEQUENCE:0
STATUS:CONFIRMED
SUMMARY:Ski & Wandern: Eintageswandertour zur Rotwand
TRANSP:TRANSPARENT
END:VEVENT
BEGIN:VEVENT
DTSTART;VALUE=DATE:20150601
DTEND;VALUE=DATE:20150602
DTSTAMP:20260419T174706Z
UID:gh058s0juh7atgkqsg83ql5t4k@google.com
CREATED:20150105T101828Z
LAST-MODIFIED:20150202T143421Z
SEQUENCE:0
STATUS:CONFIRMED
SUMMARY:Ski & Wandern: Wanderung (Start 9:00)
TRANSP:TRANSPARENT
END:VEVENT
BEGIN:VEVENT
DTSTART;VALUE=DATE:20160515
DTEND;VALUE=DATE:20160516
DTSTAMP:20260419T174706Z
UID:h1g4s37p598kufatua4b6r4a3s@google.com
CREATED:20151104T194623Z
LAST-MODIFIED:20151104T194623Z
SEQUENCE:0
STATUS:CONFIRMED
SUMMARY:Start in die Radl-Saison zum Biergarten Haag
TRANSP:TRANSPARENT
END:VEVENT
BEGIN:VEVENT
DTSTART;VALUE=DATE:20150222
DTEND;VALUE=DATE:20150223
DTSTAMP:20260419T174706Z
UID:qae47vj8drm2agrtok6fstc2vs@google.com
CREATED:20150105T101741Z
LAST-MODIFIED:20150202T143352Z
SEQUENCE:0
STATUS:CONFIRMED
SUMMARY:Ski & Wandern: Familienrodeln (Start 7:30)
TRANSP:TRANSPARENT
END:VEVENT
BEGIN:VEVENT
DTSTART;VALUE=DATE:20160305
DTEND;VALUE=DATE:20160312
DTSTAMP:20260419T174706Z
UID:7coor3v5ai2lbsfn4osmb1gq5g@google.com
CREATED:20151104T194559Z
LAST-MODIFIED:20151104T194559Z
SEQUENCE:0
STATUS:CONFIRMED
SUMMARY:Skisafari – 5 verschiedene Skigebiete
TRANSP:TRANSPARENT
END:VEVENT
END:VCALENDAR
